BEGIN:VCALENDAR
VERSION:2.0
PRODID:-//STC-ACHE - ECPv4.6.15//NONSGML v1.0//EN
CALSCALE:GREGORIAN
METHOD:PUBLISH
X-WR-CALNAME:STC-ACHE
X-ORIGINAL-URL:http://stc.ache.org
X-WR-CALDESC:Events for STC-ACHE
BEGIN:VEVENT
DTSTART;TZID=UTC-6:20260206T080000
DTEND;TZID=UTC-6:20260206T180000
DTSTAMP:20260423T232238
CREATED:20260205T140312Z
LAST-MODIFIED:20260205T140312Z
UID:2803-1770364800-1770400800@stc.ache.org
SUMMARY:STC-ACHE Healthcare Landscape Conference
DESCRIPTION:
URL:http://stc.ache.org/event/stc-ache-healthcare-landscape-conference/
CATEGORIES:Conference
END:VEVENT
END:VCALENDAR