BEGIN:VCALENDAR
VERSION:2.0
PRODID:-//STC-ACHE - ECPv4.6.15//NONSGML v1.0//EN
CALSCALE:GREGORIAN
METHOD:PUBLISH
X-WR-CALNAME:STC-ACHE
X-ORIGINAL-URL:http://stc.ache.org
X-WR-CALDESC:Events for STC-ACHE
BEGIN:VEVENT
DTSTART;TZID=UTC-6:20240130T180000
DTEND;TZID=UTC-6:20240130T200000
DTSTAMP:20260423T183403
CREATED:20231110T184932Z
LAST-MODIFIED:20231110T210806Z
UID:2395-1706637600-1706644800@stc.ache.org
SUMMARY:Board of Governors' (BOG) Exam / Fellow Advancement Study Group | Hallmark University
DESCRIPTION:Earn Board Certification \nBecome board certified and maximize your professional potential by earning the premier credential in healthcare management\, the ACHE’s prestigious FACHE credential. Becoming board certified in healthcare management as an ACHE Fellow (FACHE) means you will have the knowledge\, skills and confidence to succeed. \nCOST: 10-week session: $50 \nCONTACT: Sarah Guerard\, sarah.guerard@healthtexas.org \nRegister HERE\n\n		\n			#gallery-1 {\n				margin: auto;\n			}\n			#gallery-1 .gallery-item {\n				float: left;\n				margin-top: 10px;\n				text-align: center;\n				width: 50%;\n			}\n			#gallery-1 img {\n				border: 2px solid #cfcfcf;\n			}\n			#gallery-1 .gallery-caption {\n				margin-left: 0;\n			}\n			/* see gallery_shortcode() in wp-includes/media.php */\n		\n		\n			\n				\n			\n			\n		\n\n\n		\n			#gallery-2 {\n				margin: auto;\n			}\n			#gallery-2 .gallery-item {\n				float: left;\n				margin-top: 10px;\n				text-align: center;\n				width: 50%;\n			}\n			#gallery-2 img {\n				border: 2px solid #cfcfcf;\n			}\n			#gallery-2 .gallery-caption {\n				margin-left: 0;\n			}\n			/* see gallery_shortcode() in wp-includes/media.php */\n		\n		\n			\n				\n			\n			\n				\n			\n		\n\nParticipating in STC-ACHE’s Advancement Study Group is one of the best ways to gain the confidence and knowledge you need to successfully pass the Board of Governors Exam. Healthcare experts provide in-depth information on the 10 key knowledge areas covered on the Exam in this 10 week program. \nPlease Note: Registration is a commitment to participate. \n
URL:http://stc.ache.org/event/bog-exam-study-group-10/
LOCATION:9855 Westover Hills Blvd\, San Antonio\, TX\, 78251\, United States
CATEGORIES:Education
ATTACH;FMTTYPE=image/png:http://stc.ache.org/wp-content/uploads/sites/35/2023/11/STC-ACHE-Event-Study-Group.png
ORGANIZER;CN="STC-ACHE":MAILTO:stc@achechapter.org
END:VEVENT
END:VCALENDAR