BEGIN:VCALENDAR
VERSION:2.0
PRODID:-//STC-ACHE - ECPv4.6.15//NONSGML v1.0//EN
CALSCALE:GREGORIAN
METHOD:PUBLISH
X-WR-CALNAME:STC-ACHE
X-ORIGINAL-URL:http://stc.ache.org
X-WR-CALDESC:Events for STC-ACHE
BEGIN:VEVENT
DTSTART;VALUE=DATE:20230127
DTEND;VALUE=DATE:20230128
DTSTAMP:20260424T144230
CREATED:20220829T222511Z
LAST-MODIFIED:20221029T154929Z
UID:1775-1674777600-1674863999@stc.ache.org
SUMMARY:2023 Healthcare Landscape - TICKETS NOW AVAILABLE - Jan 27\, 2023
DESCRIPTION:Healthcare Landscape 2023 \nHealthcare Landscape is one of the largest healthcare management conferences in South Texas\nWe pride ourselves in quality content:\nMeet healthcare executives from Central & South Texas\nListen to presentations by national & regional speakers\nJoin over 350 colleagues in an interactive learning experience\nContinuing Education Credits\n  \n
URL:http://stc.ache.org/event/2023-healthcare-landscape-january-27th-2023-save-the-date/
LOCATION:5615 Landmark Parkway\, San Antonio\, TX\, 78249\, United States
ORGANIZER;CN="STC-ACHE":MAILTO:stc@achechapter.org
END:VEVENT
END:VCALENDAR