BEGIN:VCALENDAR
VERSION:2.0
PRODID:-//STC-ACHE - ECPv4.6.15//NONSGML v1.0//EN
CALSCALE:GREGORIAN
METHOD:PUBLISH
X-WR-CALNAME:STC-ACHE
X-ORIGINAL-URL:http://stc.ache.org
X-WR-CALDESC:Events for STC-ACHE
BEGIN:VEVENT
DTSTART;TZID=UTC-6:20221120T100000
DTEND;TZID=UTC-6:20221120T150000
DTSTAMP:20260424T173831
CREATED:20221029T154619Z
LAST-MODIFIED:20221029T154619Z
UID:1788-1668938400-1668956400@stc.ache.org
SUMMARY:Elf Louise Volunteer Opportunity
DESCRIPTION:The South Texas Chapter-ACHE has an upcoming philanthropy and community relations event on November 20th from 10 AM-3 PM. We are looking for volunteers to work with Elf Louise. \nIf you are interested\, please contact Ricardo Villarreal and he will provide the location and additional details. His email is : ricardovillarreal2@gmail.com. \nWe look forward to seeing you. \n
URL:http://stc.ache.org/event/elf-louise-volunteer-opportunity/
ORGANIZER;CN="STC-ACHE":MAILTO:stc@achechapter.org
END:VEVENT
END:VCALENDAR