BEGIN:VCALENDAR
VERSION:2.0
PRODID:-//STC-ACHE - ECPv4.6.15//NONSGML v1.0//EN
CALSCALE:GREGORIAN
METHOD:PUBLISH
X-WR-CALNAME:STC-ACHE
X-ORIGINAL-URL:http://stc.ache.org
X-WR-CALDESC:Events for STC-ACHE
BEGIN:VEVENT
DTSTART;TZID=UTC-6:20221110T153000
DTEND;TZID=UTC-6:20221110T180000
DTSTAMP:20260424T173935
CREATED:20220829T222821Z
LAST-MODIFIED:20220830T145723Z
UID:1778-1668094200-1668103200@stc.ache.org
SUMMARY:RGV FALL EVENT
DESCRIPTION:Save the date! \n
URL:http://stc.ache.org/event/rgv-fall-event/
LOCATION:1200 Ash Ave.\, McAllen\, TX\, 78501\, United States
END:VEVENT
END:VCALENDAR