BEGIN:VCALENDAR
VERSION:2.0
PRODID:-//STC-ACHE - ECPv4.6.15//NONSGML v1.0//EN
CALSCALE:GREGORIAN
METHOD:PUBLISH
X-WR-CALNAME:STC-ACHE
X-ORIGINAL-URL:http://stc.ache.org
X-WR-CALDESC:Events for STC-ACHE
BEGIN:VEVENT
DTSTART;TZID=UTC-6:20211023T130000
DTEND;TZID=UTC-6:20211023T150000
DTSTAMP:20260425T111140
CREATED:20210314T191427Z
LAST-MODIFIED:20210924T145709Z
UID:1498-1634994000-1635001200@stc.ache.org
SUMMARY:Advancement Section 4-6 review
DESCRIPTION:Save the date now for our upcoming virtual ACHE Board of Governors’ Exam (FACHE) Prep series! \nThis session will cover: Advancement Section 4-6 review \nBOG Human Resources\, Quality & CPI and Business \n1pm-105pm: Welcome & Introductions \n105pm-110pm: Review of the criteria to advance to Fellow \n110pm-140pm: BOG Knowledge Area Review – Human Resources \n140pm-210pm: BOG Knowledge Area Review – Quality & Performance Improvement \n210pm-220pm: Break \n220pm-250pm: BOG Knowledge Area Review – Business \n250pm-300pm: Q & A \nCHECK BACK HERE SOON FOR MORE DETAILS AND REGISTRATION INFO! \n
URL:http://stc.ache.org/event/save-the-date-advancement-section-4-6-review-2/
CATEGORIES:Employment / Career
ORGANIZER;CN="STC-ACHE":MAILTO:stc@achechapter.org
END:VEVENT
END:VCALENDAR