BEGIN:VCALENDAR
VERSION:2.0
PRODID:-//STC-ACHE - ECPv4.6.15//NONSGML v1.0//EN
CALSCALE:GREGORIAN
METHOD:PUBLISH
X-WR-CALNAME:STC-ACHE
X-ORIGINAL-URL:http://stc.ache.org
X-WR-CALDESC:Events for STC-ACHE
BEGIN:VEVENT
DTSTART;TZID=UTC-6:20211016T130000
DTEND;TZID=UTC-6:20211016T150000
DTSTAMP:20260425T111254
CREATED:20210314T191334Z
LAST-MODIFIED:20210924T145722Z
UID:1496-1634389200-1634396400@stc.ache.org
SUMMARY:Advancement Section 1-3 review
DESCRIPTION:Save the date now for our upcoming virtual ACHE Board of Governors’ Exam (FACHE) Prep series! \nThis session will cover: Advancement Section 1-3 review \nBOG Healthcare\, Mgmt/Leadership & Finance \n1pm-105pm: Welcome & Introductions \n105pm-110pm: Review of the criteria to advance to Fellow \n110pm-140pm: BOG Knowledge Area Review – Healthcare \n140pm-210pm: BOG Knowledge Area Review – Management and Leadership \n210pm-220pm: Break \n220pm-250pm: BOG Knowledge Area Review – Finance \n250pm-300pm: Q & A \nCHECK BACK HERE SOON FOR MORE DETAILS AND REGISTRATION INFO! \n
URL:http://stc.ache.org/event/save-the-date-advancement-section-1-3-review-2/
CATEGORIES:Employment / Career
ORGANIZER;CN="STC-ACHE":MAILTO:stc@achechapter.org
END:VEVENT
END:VCALENDAR