BEGIN:VCALENDAR
VERSION:2.0
PRODID:-//STC-ACHE - ECPv4.6.15//NONSGML v1.0//EN
CALSCALE:GREGORIAN
METHOD:PUBLISH
X-WR-CALNAME:STC-ACHE
X-ORIGINAL-URL:http://stc.ache.org
X-WR-CALDESC:Events for STC-ACHE
BEGIN:VEVENT
DTSTART;VALUE=DATE:20210924
DTEND;VALUE=DATE:20210925
DTSTAMP:20260425T123623
CREATED:20210317T230417Z
LAST-MODIFIED:20210922T232325Z
UID:1554-1632441600-1632527999@stc.ache.org
SUMMARY:Student Symposium
DESCRIPTION:Friday\, September 24\, 2021 \nStudent Symposium Virtual Event \n10:00 AM -1:30 PM \n                                      \n10:00 AM – 10:15 AM LOG IN TO ZOOM (This is a completely virtual event\, login instructions will be submitted prior to the event. ) \n10:15 AM- 11:45 AM *Career-Positioning–Proactively Managing  Your Professional Development* SOLD OUT \n*(ACHE Face to Face Education Credits 1.5 hrs capped and awarded to participants who register and complete ACHE requirements for virtual F2F credits)\n11:45 AM – 12:00 PM BREAK \n12:00 PM – 1:15 PM Panel- Career Perspectives from the STC-ACHE Board – Open virtual event! \nJoin Zoom Meeting: https://us02web.zoom.us/j/9417847328?pwd=VDJ2YWhXREFiS2VWVjJsd1pTT2I0QT09 \nMeeting ID: 941 784 7328\nPasscode: 092421 \n1:15 PM –  1:30 PM    Closing Remarks \nREGISTRATION CLOSED FOR THE FACE-TO-FACE EARNING PANEL; OPEN ZOOM FOR SECOND PANEL \n
URL:http://stc.ache.org/event/student-symposium-2/
CATEGORIES:Education
ORGANIZER;CN="STC-ACHE":MAILTO:stc@achechapter.org
END:VEVENT
END:VCALENDAR