BEGIN:VCALENDAR
VERSION:2.0
PRODID:-//STC-ACHE - ECPv4.6.15//NONSGML v1.0//EN
CALSCALE:GREGORIAN
METHOD:PUBLISH
X-WR-CALNAME:STC-ACHE
X-ORIGINAL-URL:http://stc.ache.org
X-WR-CALDESC:Events for STC-ACHE
BEGIN:VEVENT
DTSTART;TZID=UTC-6:20210918T090000
DTEND;TZID=UTC-6:20210918T120000
DTSTAMP:20260425T123622
CREATED:20210819T034402Z
LAST-MODIFIED:20210819T034437Z
UID:1637-1631955600-1631966400@stc.ache.org
SUMMARY:Volunteer Opportunity with the Coastal Bend LPC
DESCRIPTION:The South Texas Chapter’s local programs council in Coastal Bend is partnering with the Texas General Land Office Adopt-a-Beach program!  Come join us on September 18th\, 2021.\nRegistration begins at 8:30 a.m. and the cleanup is from 9 till noon.\nVolunteers are asked to wear closed-toe shoes and bring plenty of drinking water. Adopt-A-Beach will provide all necessary cleanup materials.\nAdvance reservations are preferred but onsite registration will be available. Online registration will remain open until the end of the cleanup on September 18th.\nFor details and/or to register\, please go to https://www.eventbrite.com/e/texas-adopt-a-beach-2021-coastwide-fall-cleanup-registration-161406859261 \n
URL:http://stc.ache.org/event/volunteer-opportunity-with-the-coastal-bend-lpc/
CATEGORIES:Volunteer
END:VEVENT
END:VCALENDAR