BEGIN:VCALENDAR
VERSION:2.0
PRODID:-//STC-ACHE - ECPv4.6.15//NONSGML v1.0//EN
CALSCALE:GREGORIAN
METHOD:PUBLISH
X-WR-CALNAME:STC-ACHE
X-ORIGINAL-URL:http://stc.ache.org
X-WR-CALDESC:Events for STC-ACHE
BEGIN:VEVENT
DTSTART;TZID=UTC-6:20210729T173000
DTEND;TZID=UTC-6:20210729T190000
DTSTAMP:20260425T140153
CREATED:20210617T002120Z
LAST-MODIFIED:20210617T002536Z
UID:1622-1627579800-1627585200@stc.ache.org
SUMMARY:Coastal Bend LPC Social Event: FREE
DESCRIPTION:Join the ACHE South Texas Chapter Coastal Bend LPC for a (much anticipated!) social event.\nThis FREE social networking event will be held on Thursday\, July 29\, 2021\, from 5:30 PM – 7:00 PM CDT\nLocation is 702 North Chaparral Street\, Corpus Christi\, TX 78401\nRegister today!\n
URL:http://stc.ache.org/event/coastal-bend-lpc-social-event/
LOCATION:702 North Chaparral Street\, Corpus Christi\, TX\, 78401
ORGANIZER;CN="STC-ACHE":MAILTO:stc@achechapter.org
END:VEVENT
END:VCALENDAR