BEGIN:VCALENDAR
VERSION:2.0
PRODID:-//STC-ACHE - ECPv4.6.15//NONSGML v1.0//EN
CALSCALE:GREGORIAN
METHOD:PUBLISH
X-WR-CALNAME:STC-ACHE
X-ORIGINAL-URL:http://stc.ache.org
X-WR-CALDESC:Events for STC-ACHE
BEGIN:VEVENT
DTSTART;TZID=UTC-6:20210721T173000
DTEND;TZID=UTC-6:20210721T183000
DTSTAMP:20260425T153426
CREATED:20210314T212527Z
LAST-MODIFIED:20210314T212527Z
UID:1536-1626888600-1626892200@stc.ache.org
SUMMARY:Monthly Board of Directors' (BOD) Meeting
DESCRIPTION:This meeting will be held virtually via the Chapter’s Zoom account until further notice. \nThe meeting occurs on the third Wednesday of each month\, from 5:30-6:30pm. \nThis is an open meeting- for contact info\, please request it in advance through stc@achechapter.org \n
URL:http://stc.ache.org/event/monthly-board-of-directors-bod-meeting-5/
CATEGORIES:Meetings
END:VEVENT
END:VCALENDAR