BEGIN:VCALENDAR
VERSION:2.0
PRODID:-//STC-ACHE - ECPv4.6.15//NONSGML v1.0//EN
CALSCALE:GREGORIAN
METHOD:PUBLISH
X-WR-CALNAME:STC-ACHE
X-ORIGINAL-URL:http://stc.ache.org
X-WR-CALDESC:Events for STC-ACHE
BEGIN:VEVENT
DTSTART;TZID=UTC-6:20210522T130000
DTEND;TZID=UTC-6:20210522T150000
DTSTAMP:20260425T183007
CREATED:20210421T231507Z
LAST-MODIFIED:20210422T235730Z
UID:1579-1621688400-1621695600@stc.ache.org
SUMMARY:FREE: Advancement Series\, Section 10+ Review
DESCRIPTION:Register now for our upcoming virtual ACHE Board of Governors’ Exam (FACHE) Prep series\, starting May 1st! \nThis session will cover: Advancement Section 10+ review \nBOG Review\, Professionalism\, Ethics\, Governance & Org Structures \n1pm-105pm: Welcome & Introductions \n105pm-110pm: Review of the criteria to advance to Fellow \n110pm-140pm: BOG Knowledge Area Review – Professionalism and Ethics \n140pm-210pm: BOG Knowledge Area Review – Governance and Organizational Structure \n210pm-220pm: Break \n220pm-300pm: BOG Practice Questions \nThis series starts on May 1st and will continue for four Saturdays from 1-3pm. Register today! \n
URL:http://stc.ache.org/event/save-the-date-advancement-series-section-10-review/
CATEGORIES:Education,Employment / Career
END:VEVENT
END:VCALENDAR