BEGIN:VCALENDAR
VERSION:2.0
PRODID:-//STC-ACHE - ECPv4.6.15//NONSGML v1.0//EN
CALSCALE:GREGORIAN
METHOD:PUBLISH
X-WR-CALNAME:STC-ACHE
X-ORIGINAL-URL:http://stc.ache.org
X-WR-CALDESC:Events for STC-ACHE
BEGIN:VEVENT
DTSTART;TZID=UTC-6:20210515T130000
DTEND;TZID=UTC-6:20210515T150000
DTSTAMP:20260425T183028
CREATED:20210314T191224Z
LAST-MODIFIED:20210422T235708Z
UID:1494-1621083600-1621090800@stc.ache.org
SUMMARY:FREE: Advancement Session\, Sections 7-9 review
DESCRIPTION:Register now for our upcoming virtual ACHE Board of Governors’ Exam (FACHE) Prep series\, beginning May 1st! \nThis session will cover: Advancement Sections 7-9 review \nBOG Review\, IT\, Laws & Regulations \n1pm-105pm: Welcome & Introductions \n105pm-110pm: Review of the criteria to advance to Fellow \n110pm-140pm: BOG Knowledge Area Review – Healthcare Technology & Information MGMT \n140pm-210pm: BOG Knowledge Area Review – Laws & Regulations \n210pm-220pm: Break \n220pm-300pm: BOG Practice Questions \nThis series starts on May 1st and runs for four Saturdays from 1-3pm.  Register today! \n
URL:http://stc.ache.org/event/advancement-section-7-9-review/
CATEGORIES:Education,Employment / Career
ORGANIZER;CN="STC-ACHE":MAILTO:stc@achechapter.org
END:VEVENT
END:VCALENDAR