BEGIN:VCALENDAR
VERSION:2.0
PRODID:-//STC-ACHE - ECPv4.6.15//NONSGML v1.0//EN
CALSCALE:GREGORIAN
METHOD:PUBLISH
X-WR-CALNAME:STC-ACHE
X-ORIGINAL-URL:http://stc.ache.org
X-WR-CALDESC:Events for STC-ACHE
BEGIN:VEVENT
DTSTART;TZID=UTC-6:20210508T130000
DTEND;TZID=UTC-6:20210508T150000
DTSTAMP:20260425T182844
CREATED:20210314T191105Z
LAST-MODIFIED:20210422T235648Z
UID:1492-1620478800-1620486000@stc.ache.org
SUMMARY:FREE: Advancement Session\, Sections 4-6 Review
DESCRIPTION:Register now for our upcoming virtual ACHE Board of Governors’ Exam (FACHE) Prep series- starting May 1st! \nThis session will cover: Advancement Sections 4-6 review \nBOG Human Resources\, Quality & CPI and Business \n1pm-105pm: Welcome & Introductions \n105pm-110pm: Review of the criteria to advance to Fellow \n110pm-140pm: BOG Knowledge Area Review – Human Resources \n140pm-210pm: BOG Knowledge Area Review – Quality & Performance Improvement \n210pm-220pm: Break \n220pm-250pm: BOG Knowledge Area Review – Business \n250pm-300pm: Q & A \nThis series starts May 1st and continues for four Saturdays from 1-3pm. Register today! \n
URL:http://stc.ache.org/event/advancement-section-4-6/
CATEGORIES:Education,Employment / Career
ORGANIZER;CN="STC-ACHE":MAILTO:stc@achechapter.org
END:VEVENT
END:VCALENDAR