BEGIN:VCALENDAR
VERSION:2.0
PRODID:-//STC-ACHE - ECPv4.6.15//NONSGML v1.0//EN
CALSCALE:GREGORIAN
METHOD:PUBLISH
X-WR-CALNAME:STC-ACHE
X-ORIGINAL-URL:http://stc.ache.org
X-WR-CALDESC:Events for STC-ACHE
BEGIN:VEVENT
DTSTART;TZID=UTC-6:20210429T180000
DTEND;TZID=UTC-6:20210429T190000
DTSTAMP:20260425T182740
CREATED:20210314T184722Z
LAST-MODIFIED:20210408T235440Z
UID:1477-1619719200-1619722800@stc.ache.org
SUMMARY:FREE-Q&A Virtual Session for the Thomas C. Dolan CAP Program
DESCRIPTION:Join us for this FREE information session to learn about the inaugural Thomas C. Dolan Career Accelerator Program (CAP)\, which is an extension of the Dolan Executive Diversity Program (EDP).\nDr. Cie Armstead\, ACHE’s Diversity Director\, and Ms. Roxanne Rosa\, a 2016 EDP Scholar\, will be leading the session and be able to answer your questions. \nEvent will take place via Zoom- log-in details will be provided upon registration.  \nREGISTER TODAY! \n
URL:http://stc.ache.org/event/q-a-virtual-session-for-the-thomas-c-dolan-cap-program/
CATEGORIES:Employment / Career
ORGANIZER;CN="STC-ACHE":MAILTO:stc@achechapter.org
END:VEVENT
END:VCALENDAR