BEGIN:VCALENDAR
VERSION:2.0
PRODID:-//STC-ACHE - ECPv4.6.15//NONSGML v1.0//EN
CALSCALE:GREGORIAN
METHOD:PUBLISH
X-WR-CALNAME:STC-ACHE
X-ORIGINAL-URL:http://stc.ache.org
X-WR-CALDESC:Events for STC-ACHE
BEGIN:VEVENT
DTSTART;VALUE=DATE:20210322
DTEND;VALUE=DATE:20210326
DTSTAMP:20260425T224126
CREATED:20210314T213359Z
LAST-MODIFIED:20210314T213359Z
UID:1548-1616371200-1616716799@stc.ache.org
SUMMARY:ACHE Congress on Healthcare Leadership
DESCRIPTION:Join us for the American College of Healthcare Executives’ annual congress on healthcare leadership. \nThis year\, the event is virtual and at a significant financial discount!\nInterested in learning from some of the best in healthcare?  Need face-to-face credits to qualify for your FACHE? Register today!\n  \n
URL:http://stc.ache.org/event/ache-congress-on-healthcare-leadership/
END:VEVENT
END:VCALENDAR