BEGIN:VCALENDAR
VERSION:2.0
PRODID:-//STC-ACHE - ECPv4.6.15//NONSGML v1.0//EN
CALSCALE:GREGORIAN
METHOD:PUBLISH
X-WR-CALNAME:STC-ACHE
X-ORIGINAL-URL:http://stc.ache.org
X-WR-CALDESC:Events for STC-ACHE
BEGIN:VEVENT
DTSTART;TZID=UTC-6:20180721T080000
DTEND;TZID=UTC-6:20180721T103000
DTSTAMP:20260425T194119
CREATED:20180605T035008Z
LAST-MODIFIED:20180605T035136Z
UID:748-1532160000-1532169000@stc.ache.org
SUMMARY:Volunteer Opportunity: SAFB Landscaping
DESCRIPTION:WHERE: San Antonio Food Bank\, 5200 Enrique M Barrera Parkway San Antonio\, TX 78227 \nWHEN : 0800-1030AM\, Saturday 21 Jul 2018 \nDescription: \nVolunteers will work with our landscape team to keep our campus looking beautiful!  Tasks may include weeding\, picking up debris\, sweeping\, mowing\, and/or weedwacking.  Please be advised this work takes place outside and is therefore quite physical in nature.  Landscape volunteers will be exposed to heat\, sun\, wind\, rain\, and maybe even the occasional cold day.  Please dress appropriately.  We do recommend boots\, long pants\, a hat\, work gloves\, and sunscreen.   \nNumber needed: 20\, any age acceptable. \nSign up now on our Eventbrite site for this event and donate your time and energy for an organization that makes our community healthier and stronger! \n  \n
URL:http://stc.ache.org/event/volunteer-opportunity-safb-landscaping/
LOCATION:5200 Old Highway 90 West\, San Antonio\, TX\, 78227\, United States
CATEGORIES:Volunteer
END:VEVENT
END:VCALENDAR