BEGIN:VCALENDAR
VERSION:2.0
PRODID:-//STC-ACHE - ECPv4.6.15//NONSGML v1.0//EN
CALSCALE:GREGORIAN
METHOD:PUBLISH
X-WR-CALNAME:STC-ACHE
X-ORIGINAL-URL:http://stc.ache.org
X-WR-CALDESC:Events for STC-ACHE
BEGIN:VEVENT
DTSTART;TZID=UTC-6:20180324T090000
DTEND;TZID=UTC-6:20180324T120000
DTSTAMP:20260425T175739
CREATED:20180315T103443Z
LAST-MODIFIED:20180323T024240Z
UID:678-1521882000-1521892800@stc.ache.org
SUMMARY:Volunteer Opportunity- STC-ACHE & CCAOSA
DESCRIPTION:The Catholic Charities\, Archdiocese of San Antonio (CCAOSA) needs help in one of their sites!\nWe need up to 25 volunteers to help sort clothing for the needy here and abroad. Please sign up today to make a difference in our community! \nLocation is St. Stephens Catholic Church- please go through the gate and the security guard will let you in\, with plenty of free parking available. \nPlease sign up today to make a difference in our community! \nQuestions? Please contact the STC-ACHE Director for Philanthropy and Community Relations\, Kimberly Tansey\, at kimbot@gmail.com \n
URL:http://stc.ache.org/event/volunteer-opportunity-ccaosa/
CATEGORIES:Volunteer
END:VEVENT
END:VCALENDAR