BEGIN:VCALENDAR
VERSION:2.0
PRODID:-//STC-ACHE - ECPv4.6.15//NONSGML v1.0//EN
CALSCALE:GREGORIAN
METHOD:PUBLISH
X-WR-CALNAME:STC-ACHE
X-ORIGINAL-URL:http://stc.ache.org
X-WR-CALDESC:Events for STC-ACHE
BEGIN:VEVENT
DTSTART;TZID=UTC-6:20180602T100000
DTEND;TZID=UTC-6:20180602T120000
DTSTAMP:20260425T180806
CREATED:20180315T110549Z
LAST-MODIFIED:20180315T110549Z
UID:687-1527933600-1527940800@stc.ache.org
SUMMARY:Volunteer Opportunity- Animal Defense League of Texas
DESCRIPTION:Come volunteer with STC-ACHE and the Animal Defense League of Texas! \nWe are looking for 25 volunteers (ages 12+ are welcome!) that are willing to work outside and help make our community a better place!  Please bring your own gloves to this event and wear work clothing. \nALL VOLUNTEERS MUST BRING COMPLETED RELEASE FORM WITH THEM (Minor portion only required for those under age 18). Form available HERE: Service-Group-Tour-Release-Form. \nEach volunteer is asked to bring one can or small bag of dog or cat food.  \nPlease sign up today to help make our community healthy and strong! \n
URL:http://stc.ache.org/event/volunteer-opportunity-animal-defense-league-of-texas/
CATEGORIES:Volunteer
END:VEVENT
END:VCALENDAR