BEGIN:VCALENDAR
VERSION:2.0
PRODID:-//STC-ACHE - ECPv4.6.15//NONSGML v1.0//EN
CALSCALE:GREGORIAN
METHOD:PUBLISH
X-WR-CALNAME:STC-ACHE
X-ORIGINAL-URL:http://stc.ache.org
X-WR-CALDESC:Events for STC-ACHE
BEGIN:VEVENT
DTSTART;TZID=UTC-6:20200222T090000
DTEND;TZID=UTC-6:20200222T120000
DTSTAMP:20260425T180638
CREATED:20200215T213733Z
LAST-MODIFIED:20200215T213932Z
UID:1267-1582362000-1582372800@stc.ache.org
SUMMARY:Volunteer event with the Texas Diaper Bank
DESCRIPTION:\n\n\n\nJoin us as we help repackage diapers or kits for clients who receive assistance from the Texas Diaper Bank.\n\n\n\n\n\nIndividuals/groups will repackage one of the following items: Diapers\, Pull-Ups\, Calm Parent Program Kits\, Disaster Relief Kits \n\n\nWhere: 1803 Grandstand Dr. Suite #150 San Antonio\, TX 78238 \nDirections: Located in the Alamo Downs Business Park\, inside loop of 410. \nPLEASE DO NOT PARK IN THE FRONT OF BUILDING\, park in the back of the building across from Bay 13. Door to the right of Bay 13 will open 5-10 minutes before event starts. \nAttire: Warehouse is climate controlled\, dress comfortably and appropriately for the weather\, and please wear closed toe shoes! \nNotes: Texas Diaper Bank encourages you to bring your personal water bottle for your use at our bottle refilling station! Light snacks and cold water are provided throughout the event. \nAge: All children 9 and up are welcome to join! \nSocial Media: We encourage all volunteers to take pictures\, post them on your favorite social media accounts\, and tag the Texas Diaper Bank & STC-ACHE! \n\n\n\n\nRegister today at our Eventbrite site! \n
URL:http://stc.ache.org/event/volunteer-event-with-the-texas-diaper-bank/
CATEGORIES:Volunteer
END:VEVENT
END:VCALENDAR