BEGIN:VCALENDAR
VERSION:2.0
PRODID:-//STC-ACHE - ECPv4.6.15//NONSGML v1.0//EN
CALSCALE:GREGORIAN
METHOD:PUBLISH
X-WR-CALNAME:STC-ACHE
X-ORIGINAL-URL:http://stc.ache.org
X-WR-CALDESC:Events for STC-ACHE
BEGIN:VEVENT
DTSTART;TZID=UTC-6:20190427T103000
DTEND;TZID=UTC-6:20190427T150000
DTSTAMP:20260425T164036
CREATED:20190314T012923Z
LAST-MODIFIED:20190418T012714Z
UID:959-1556361000-1556377200@stc.ache.org
SUMMARY:Volunteer event: THRIVE “See One – Help One” Homeless LGBTQ Youth Street Outreach Event
DESCRIPTION:Your STC-ACHE is looking for 25 volunteers to help THRIVE in their upcoming event – see details below. Registration is at our eventbrite site – sign up today! \nWho: THRIVE “See One – Help One” Homeless LGBTQ Youth Street Outreach Event (See more about THRIVE here) \nWhat: General setup / tear down of tables\, passing out food tickets\, distribution of food\, resource bags\, taking out trash\, picking up litter\, and providing a kind ear to those LGBTQ youth and adults struggling with homelessness / HIV in the San Antonio area. Primary focus is the target group but no person in need will be turned away. \nWhen: April 27\, 2019 10:30AM – 3PM \nWhere:San Pedro Park\, 2200 N. Flores\, San Antonio\, TX  \nNumber of volunteers needed: 25 (16 and up only due to safety and the population being served). \nDownload [819.10 KB]  \n
URL:http://stc.ache.org/event/volunteer-event-thrive-see-one-help-one-homeless-lgbtq-youth-street-outreach-event/
LOCATION:2200 N. Flores\, San Antonio\, TX\, 78212\, United States
CATEGORIES:Volunteer
END:VEVENT
END:VCALENDAR