BEGIN:VCALENDAR
VERSION:2.0
PRODID:-//STC-ACHE - ECPv4.6.15//NONSGML v1.0//EN
CALSCALE:GREGORIAN
METHOD:PUBLISH
X-WR-CALNAME:STC-ACHE
X-ORIGINAL-URL:http://stc.ache.org
X-WR-CALDESC:Events for STC-ACHE
BEGIN:VEVENT
DTSTART;TZID=UTC-6:20170722T090000
DTEND;TZID=UTC-6:20170722T113000
DTSTAMP:20260425T205553
CREATED:20170719T234346Z
LAST-MODIFIED:20170719T234346Z
UID:361-1500714000-1500723000@stc.ache.org
SUMMARY:Volunteer Event- San Antonio Food Bank
DESCRIPTION:Excellent opportunity for ACHE members to sort and pack produce\, nonperishable foods\, and household items\, to prepare them for distribution. Duties may include checking for expiration dates\, opened packages and spoilage\, labeling cans\, packing bags of food and household items. This project is fun and rewarding. Children 8 and up are able to attend. \nDue to safety concerns all volunteers must wear close-toed shoes (no sandals or flip flops) and clothes appropriate to work in a warehouse environment. \nGo to our Eventbrite site to register! \n
URL:http://stc.ache.org/event/volunteer-event-san-antonio-food-bank/
LOCATION:5200 Old Highway 90 West\, San Antonio\, TX\, 78227\, United States
END:VEVENT
END:VCALENDAR