BEGIN:VCALENDAR
VERSION:2.0
PRODID:-//STC-ACHE - ECPv4.6.15//NONSGML v1.0//EN
CALSCALE:GREGORIAN
METHOD:PUBLISH
X-WR-CALNAME:STC-ACHE
X-ORIGINAL-URL:http://stc.ache.org
X-WR-CALDESC:Events for STC-ACHE
BEGIN:VEVENT
DTSTART;TZID=UTC-6:20171021T133000
DTEND;TZID=UTC-6:20171021T153000
DTSTAMP:20260425T205552
CREATED:20170923T225924Z
LAST-MODIFIED:20170923T225924Z
UID:456-1508592600-1508599800@stc.ache.org
SUMMARY:Volunteer event- San Antonio Food Bank
DESCRIPTION:Excellent opportunity for ACHE members to sort and pack produce\, nonperishable foods\, and household items\, to prepare them for distribution. Duties may include checking for expiration dates\, opened packages and spoilage\, labeling cans\, packing bags of food and household items. This project is fun and rewarding. Children 8 and up are able to attend. \nDue to safety concerns all volunteers must wear closed-toed shoes (no sandals or flip flops) and clothes appropriate to work in a warehouse environment. \nRegister at our Eventbrite site today! \n
URL:http://stc.ache.org/event/volunteer-event-san-antonio-food-bank-4/
ORGANIZER;CN="Don%20Brocker":MAILTO:donald.w.brocker.civ@mail.mil
END:VEVENT
END:VCALENDAR