BEGIN:VCALENDAR
VERSION:2.0
PRODID:-//STC-ACHE - ECPv4.6.15//NONSGML v1.0//EN
CALSCALE:GREGORIAN
METHOD:PUBLISH
X-WR-CALNAME:STC-ACHE
X-ORIGINAL-URL:http://stc.ache.org
X-WR-CALDESC:Events for STC-ACHE
BEGIN:VEVENT
DTSTART;TZID=UTC-6:20191019T060000
DTEND;TZID=UTC-6:20191019T090000
DTSTAMP:20260425T180517
CREATED:20190314T014755Z
LAST-MODIFIED:20191011T193430Z
UID:965-1571464800-1571475600@stc.ache.org
SUMMARY:Volunteer Event: Alzheimer's Association Walk
DESCRIPTION:Volunteer Event: 2019 Walk to End Alzheimer’s \nWhen: Saturday\, October 19\, 2019; 6-9am \nWhere: Palo Alto College\, 1400 W. Villeret Blvd. SATX 78224; park in lot 11 and then go to the Volunteer area \nNeed at least 10 volunteers to work the registration table. Volunteers will need to arrive on site between 6-6:30am\, anticipate needing help through 9am. The walk starts at 9am\, so if you are interested in staying and participating afterwards\, that would be great\, too! \nRegistration is open now!  Please bring the waiver form with you — available on the eventbrite site when you register. \nHope to see you there! \n
URL:http://stc.ache.org/event/volunteer-event-alzheimers-association-walk/
LOCATION:1400 W. Villeret Blvd.\, San Antonio\, Texas\, 78224
CATEGORIES:Volunteer
END:VEVENT
END:VCALENDAR