BEGIN:VCALENDAR
VERSION:2.0
PRODID:-//STC-ACHE - ECPv4.6.15//NONSGML v1.0//EN
CALSCALE:GREGORIAN
METHOD:PUBLISH
X-WR-CALNAME:STC-ACHE
X-ORIGINAL-URL:http://stc.ache.org
X-WR-CALDESC:Events for STC-ACHE
BEGIN:VEVENT
DTSTART;TZID=UTC-6:20200821T114500
DTEND;TZID=UTC-6:20200821T133500
DTSTAMP:20260425T133256
CREATED:20200716T185858Z
LAST-MODIFIED:20200807T233143Z
UID:1335-1598010300-1598016900@stc.ache.org
SUMMARY:VIRTUAL Lunch-N-Learn: Telemedicine (1.5 F2F Hours!)
DESCRIPTION:\n\n\n\nSTC-ACHE is proud to offer our VIRTUAL Lunch-N-Learn event focused on Telemedicine in Healthcare Delivery! 1.5 F2F Hours will be offered.\n\n\n\n\n\n\nAbout this Event\n\n\nTitle: VIRTUAL Summer Lunch-N-Learn: Telemedicine! \nVirtual Platform / Login Information: Pending\, confirmed registrants will be sent Webinar Link and instructions in August. The platform offered will be free to members but require high-speed internet. Be mindful of any data charges you may incur if you are not connected to WIFI or other types of high-speed internet. \nFace-to-Face Requirements: ACHE at the National level requires virtual participants to complete interactive discussions and short assignments during the panel to earn F2F hours; please make sure you plan your schedule accordingly. \nCapacity Limit: ACHE has imposed a 50-attendee max for all virtual events. A waitlist will be available and if the limit is reached you are encouraged to place your name on the waitlist. You will be automatically notified if a slot becomes available. \n\nRegister Here \n\n\n\n
URL:http://stc.ache.org/event/virtual-lunch-n-learn-telemedicine-1-5-f2f-hours/
CATEGORIES:Education
ORGANIZER;CN="STC-ACHE":MAILTO:stc@achechapter.org
END:VEVENT
END:VCALENDAR