BEGIN:VCALENDAR
VERSION:2.0
PRODID:-//STC-ACHE - ECPv4.6.15//NONSGML v1.0//EN
CALSCALE:GREGORIAN
METHOD:PUBLISH
X-WR-CALNAME:STC-ACHE
X-ORIGINAL-URL:http://stc.ache.org
X-WR-CALDESC:Events for STC-ACHE
BEGIN:VEVENT
DTSTART;TZID=UTC-6:20200811T120000
DTEND;TZID=UTC-6:20200811T130000
DTSTAMP:20260425T133323
CREATED:20200724T103222Z
LAST-MODIFIED:20200724T103222Z
UID:1371-1597147200-1597150800@stc.ache.org
SUMMARY:THA Webinar: COVID-19 Pandemic- Financial Impact and Recuperation Strategies for Hospitals
DESCRIPTION:COVID-19 Pandemic: Financial Impact and Recuperation Strategies for Hospitals \nAug. 11\, 2020\, Noon-1 p.m. CST \nSpeaker: Deborah Whitley\, Partner\, BKD\, Waco \nFrom the discontinuation of elected procedures to the growing number of uninsured patients\, the COVID-19 pandemic has had a profound impact on hospital financial health. Join us on August 11 for a complimentary webinar where Deborah Whitley\, CPA\, partner at BKD in Waco\, will review the COVID-19 financial impact on hospitals; possible revenue recuperation strategies; and budgeting for 2021. \nTarget Audience: \nChief financial officers and finance/accounting staff \nContinuing Education: \n1.0 hour ACHE Qualified and CHT\, 1.2 hour CPE \nHosted by the Texas Hospital Association \nCOMPLIMENTARY to members- For the THA Member Rate\, ACHE chapter members that are not THA members can use the code ACHE20. \nClick Here for More Information and to Register \n
URL:http://stc.ache.org/event/tha-webinar-covid-19-pandemic-financial-impact-and-recuperation-strategies-for-hospitals/
CATEGORIES:Education
END:VEVENT
END:VCALENDAR