BEGIN:VCALENDAR
VERSION:2.0
PRODID:-//STC-ACHE - ECPv4.6.15//NONSGML v1.0//EN
CALSCALE:GREGORIAN
METHOD:PUBLISH
X-WR-CALNAME:STC-ACHE
X-ORIGINAL-URL:http://stc.ache.org
X-WR-CALDESC:Events for STC-ACHE
BEGIN:VEVENT
DTSTART;TZID=UTC-6:20180608T113000
DTEND;TZID=UTC-6:20180608T170000
DTSTAMP:20260425T193030
CREATED:20171211T045720Z
LAST-MODIFIED:20180605T012348Z
UID:566-1528457400-1528477200@stc.ache.org
SUMMARY:Summer Educational Event- Adapting to Change
DESCRIPTION:Register now for our Summer Educational Event in San Antonio\n11:30 AM – 1:00 PM           Registration / Networking / Lunch \n1:00 PM – 1:15 PM              Welcome & Introductions \n1:15 PM – 2:45 PM              Diversity and Inclusion (*ACHE 1.5 face-to-face credit hours pending approval) \n\n\n\nModerator:\nRamon Cancino\, MD\, MSc- Director of the UT Health Physicians Primary Care Center\n\n\nPanelist: \nBrit Peek- HR Manager at Methodist HC Ministries\n\n\nPanelist:\nLinda Solis\, PhD- Prior Director\, Student Diversity\, Current Assistant Professor of Applied Humanities\n\n\nPanelist:\n Dr. Roger Enriquez- Associate Professor & Director of the UTSA Policy Studies Center\n\n\n\n3:00 PM – 4:30 PM Successfully Leading Change in Healthcare Organizations (*ACHE 1.5 face-to-face credit hours pending approval) \n\n\n\nModerator:\nMichael Nowicki\, EdD\, FACHE\, FHFMA- Professor of Health Administration\, Texas State University- San Marcos\, ACHE Regent-TX Central and South\n\n\nPanelist: \nLee McKenna – Vice President\, Operations at FetchMD\n\n\nPanelist:\nJeff Wilson- Chief Executive Officer\, Methodist Specialty and Transplant Hospital\n\n\nPanelist:\nTony Sanchez- Vice President for Human Resources\, Nix Health System\n\n\n\n4:30 PM – 5:00 PM                Questions / Closing Remarks \nLocation: San Antonio Country Club\, 4100 N New Braunfels Ave\,  San Antonio\, TX 78209   \nRegister TODAY at our Eventbrite site \n
URL:http://stc.ache.org/event/summer-educational-event-save-the-date/
LOCATION:4100 N. New Braunfels Avenue\, San Antonio\, Texas\, 78209
CATEGORIES:Education,Meetings
END:VEVENT
END:VCALENDAR