BEGIN:VCALENDAR
VERSION:2.0
PRODID:-//STC-ACHE - ECPv4.6.15//NONSGML v1.0//EN
CALSCALE:GREGORIAN
METHOD:PUBLISH
X-WR-CALNAME:STC-ACHE
X-ORIGINAL-URL:http://stc.ache.org
X-WR-CALDESC:Events for STC-ACHE
BEGIN:VEVENT
DTSTART;TZID=UTC-6:20170922T113000
DTEND;TZID=UTC-6:20170922T170000
DTSTAMP:20260425T205006
CREATED:20170213T030156Z
LAST-MODIFIED:20170827T175006Z
UID:264-1506079800-1506099600@stc.ache.org
SUMMARY:2017 Student Symposium
DESCRIPTION:TOPIC 1: Leading a Successful Multi-generational Organization (see #37 for details)- 1.5 type I face-to-face credit hours \n\n\n\nModerator:\nMG (Ret.) David Rubenstein\, FACHE\, MMAS\, MHA- Associate Professor of Healthcare Administration\, Texas State University\n\n\nPanelist: \nAmer Kaissi\, Ph.D.- Professor of Health Care Administration\, Trinity University\n\n\nPanelist:\nJonathan Larson\, MD\, MBA- CEO & Founder\, MedSpoke\, Inc\n\n\nPanelist: \n \nTheresa Scepanski\, Senior Vice President\, Chief Administrative Officer – University Health System\n\n\nPanelist: \n \nEdward Schumacher\, Ph.D.- Professor of Health Care Administration\, Trinity University\n\n\n\nTOPIC #2: New Governmental Focuses on Fraud and Abuse Enforcement (ACHE panel template 52- fraud and abuse) – qualifying credit \n\n\n\nModerator:\nRebeca Martinez\, JD- Justice for the 4th Circuit Court of Appeals\n\n\nPanelist: \nJay Dewald\, JD- Partner\, Jackson Walker\n\n\nPanelist:\nSarah Fontenot\, BSN\, JD\, CSP- Adjunct Professor of Health Law\, Trinity University \n\n\nPanelist:\nAndre Hampton\, JD- Professor\, St. Mary’s University School of Law\n\n\nPanelist:\nCeleste Lira\, JD\, BSN- Attorney at Brin & Brin\, PC\n\n\n\nLOCATION: St. Mary’s University School of Law- Sarita Kenedy Law Library (directions can be found here: Directions) \n***CARPOOLING HIGHLY ENCOURAGED*** \nTIME: 11:30am – 5pm \nSee flyer for details. \nRegister today at our Eventbrite site! \nAttendees: Please see St. Mary’s University Code of Conduct Policy \n
URL:http://stc.ache.org/event/student-symposium/
CATEGORIES:Education
ORGANIZER;CN="STC-ACHE":MAILTO:stc@achechapter.org
END:VEVENT
END:VCALENDAR