BEGIN:VCALENDAR
VERSION:2.0
PRODID:-//STC-ACHE - ECPv4.6.15//NONSGML v1.0//EN
CALSCALE:GREGORIAN
METHOD:PUBLISH
X-WR-CALNAME:STC-ACHE
X-ORIGINAL-URL:http://stc.ache.org
X-WR-CALDESC:Events for STC-ACHE
BEGIN:VEVENT
DTSTART;TZID=UTC-6:20190913T113000
DTEND;TZID=UTC-6:20190913T163000
DTSTAMP:20260425T204500
CREATED:20190827T162103Z
LAST-MODIFIED:20190828T121055Z
UID:1076-1568374200-1568392200@stc.ache.org
SUMMARY:Student & Early Careerist Symposium
DESCRIPTION:Join the South Texas Chapter of ACHE for our annual Student & Early Careerist Symposium! \nThe STC-ACHE Student & Early Careerist Symposium brings together healthcare students and healthcare professionals under one roof to learn\, discuss\, and draw inspiration from eminent speakers\, policy makers\, and renowned health leaders. This year’s symposium will consist of two panel discussions on the topics of “Population Health Management” and “Understanding Implicit Bias”.  \nThis event is open to all those in Healthcare Administration interested in these topics and in professional networking (both members and non-members of ACHE). \n11:30am – 12:45pm Registration/Networking/Lunch \n12:45pm – 1:00pm Welcome & Introductions \n1:00pm – 1:15pm Keynote Speaker- Kathleen Carberry\, RN\, MPH \n1:15pm – 2:45pm PANEL #1: Population Health Management: Justice\, Access\, and Financial Implications (ACHE Face-to-Face Education Credits\, 1.5 hours) \nModerator : LTC Jarrod McGee\, FACHE- Commander/CEO\, 11th Field Hospital\, Fort Hood \nPanelists:  \n\nKathleen Carberry\, RN\, MPH- Chief Outcomes Officer\, Assistant Professor\, Medical Education\, Dell Medical School. Value Institute for Health and Care\nMAJ Chris Armijo\, FACHE- Force Health Protection Officer\, US Army\nMichael Nowicki\, PhD\, FACHE- Professor\, Health Administration\, Texas State University\nTheresa Holder – VP Military & Veteran’s Health\, OptumServe\n\n3:00pm – 4:30pm PANEL #2: Understanding Implicit Bias and its impact on Healthcare Leadership (ACHE Face-to-Face Education Credits\, 1.5 hours) \nModerator: LTC Chani Cordero\, FACHE\, CHCIO- CIO\, Darnall Army Community Hospital\, Fort Hood \nPanelists: \n\nKaroon Brown- CEO\, OPTUMServe Technology Solutions\nAaron Miri\, FHIMSS\, CHCIO- CIO\, Dell Medical School & UT Health Austin\nKristen Lowe- Market CEO\, Post Acute Medical Hospital\nRoxanne Rosa\, FACHE- Executive Director\, University Health Systems\n\n4:30pm Closing Remarks \nLunch will be provided. Ticket price includes box lunch: chips\, cookie\, bottled water\, and your choice of 1 of 3 sandwiches: Turkey and Swiss; Veggie; and Chicken club \n  \nRegister Here to attend! \n
URL:http://stc.ache.org/event/student-early-careerist-symposium-south-texas-chapter-of-ache/
LOCATION:St. Mary's University Law Commons1 Camino Santa Maria St.\, San Antonio\, TX\, 78228\, United States
END:VEVENT
END:VCALENDAR