BEGIN:VCALENDAR
VERSION:2.0
PRODID:-//STC-ACHE - ECPv4.6.15//NONSGML v1.0//EN
CALSCALE:GREGORIAN
METHOD:PUBLISH
X-WR-CALNAME:STC-ACHE
X-ORIGINAL-URL:http://stc.ache.org
X-WR-CALDESC:Events for STC-ACHE
BEGIN:VEVENT
DTSTART;TZID=UTC-6:20160514T080000
DTEND;TZID=UTC-6:20160514T120000
DTSTAMP:20260426T021826
CREATED:20160317T204221Z
LAST-MODIFIED:20160419T205850Z
UID:129-1463212800-1463227200@stc.ache.org
SUMMARY:STC-ACHE Volunteer Event - San Antonio Animal Care Services
DESCRIPTION:\nSouth Texas Chapter – American College of Healthcare  Executives (STC-ACHE) \n                                                Volunteer Event  \nWhat: Block Walk with Pizza Lunch \nFor Who: San Antonio Animal Care Services \nWhen: 14 May 2016\, 8:00 a.m. to 12:00 p.m.  \nWhere: Tobin Community Center: 1900 W Martin St\, San Antonio\, TX 78207 \nPurpose: Distribute flyers about free vaccination clinics and educational information regarding free spay/neuter services \n  \nGeneral Information \n~ Please sign-up thru the Eventbrite to participate in this event. \n~ Bring the family\, an Animal Care Services Escort will accompany the group. \n~ Bring your sunscreen\, hat and good walking shoes. \n
URL:http://stc.ache.org/event/stc-ache-volunteer-event-san-antonio-animal-care-services/
LOCATION:1900 W. Martin St\, San Antonio\, TX\, 78207\, United States
ORGANIZER;CN="Don%20Brocker":MAILTO:donald.w.brocker.civ@mail.mil
END:VEVENT
END:VCALENDAR