BEGIN:VCALENDAR
VERSION:2.0
PRODID:-//STC-ACHE - ECPv4.6.15//NONSGML v1.0//EN
CALSCALE:GREGORIAN
METHOD:PUBLISH
X-WR-CALNAME:STC-ACHE
X-ORIGINAL-URL:http://stc.ache.org
X-WR-CALDESC:Events for STC-ACHE
BEGIN:VEVENT
DTSTART;TZID=UTC-6:20221007T110000
DTEND;TZID=UTC-6:20221007T170000
DTSTAMP:20260424T190427
CREATED:20220922T145607Z
LAST-MODIFIED:20220922T151556Z
UID:1782-1665140400-1665162000@stc.ache.org
SUMMARY:STC ACHE Fall Education Summit
DESCRIPTION:Session Agenda \n11:30 AM – Check-in Begins \n12:00 PM – Lunch \n12:30 PM – 2:00 PM – Session 1: Fostering Inclusion of LGBTQ Patients and the Healthcare Workforce \n2:15 PM – 2:30 PM – Break \n2:15 PM – 3:45 PM – Session 2: Understanding Implicit Bias and its Impact on Healthcare Leadership \n3:45 PM – 4:00 PM – Close-out \n
URL:http://stc.ache.org/event/stc-ache-fall-education-summit/
LOCATION:10060 Interstate 10\, San Antonio\, TX\, 78230\, United States
ORGANIZER;CN="STC-ACHE":MAILTO:stc@achechapter.org
END:VEVENT
END:VCALENDAR