BEGIN:VCALENDAR
VERSION:2.0
PRODID:-//STC-ACHE - ECPv4.6.15//NONSGML v1.0//EN
CALSCALE:GREGORIAN
METHOD:PUBLISH
X-WR-CALNAME:STC-ACHE
X-ORIGINAL-URL:http://stc.ache.org
X-WR-CALDESC:Events for STC-ACHE
BEGIN:VEVENT
DTSTART;TZID=UTC-6:20160615T173000
DTEND;TZID=UTC-6:20160615T183000
DTSTAMP:20260425T222106
CREATED:20160613T035312Z
LAST-MODIFIED:20160613T143823Z
UID:164-1466011800-1466015400@stc.ache.org
SUMMARY:STC-ACHE Board of Directors' Meeting
DESCRIPTION:
URL:http://stc.ache.org/event/stc-ache-board-of-directors-meeting/
CATEGORIES:Meetings,Volunteer
END:VEVENT
END:VCALENDAR