BEGIN:VCALENDAR
VERSION:2.0
PRODID:-//STC-ACHE - ECPv4.6.15//NONSGML v1.0//EN
CALSCALE:GREGORIAN
METHOD:PUBLISH
X-WR-CALNAME:STC-ACHE
X-ORIGINAL-URL:http://stc.ache.org
X-WR-CALDESC:Events for STC-ACHE
BEGIN:VEVENT
DTSTART;TZID=UTC-6:20180516T173000
DTEND;TZID=UTC-6:20180516T183000
DTSTAMP:20260425T205446
CREATED:20180114T014931Z
LAST-MODIFIED:20180114T014944Z
UID:603-1526491800-1526495400@stc.ache.org
SUMMARY:STC-ACHE Board of Directors' Meeting
DESCRIPTION:\nThis month’s STC-ACHE Board of Directors Meeting will take place on the 3rd Wednesday of the month from 5:30 pm – 6:30 pm at the Audie Murphy Memorial Veterans Hospital\, Polytrauma Center\, Conference Room #108. \nThe Polytrauma Center is just to the left of the main hospital as you face it. \n\nThe address is 7400 Merton Minter Blvd\, San Antonio\, TX at the South Texas Medical Center just across the street from University Hospital.\n
URL:http://stc.ache.org/event/stc-ache-board-of-directors-meeting-7/
CATEGORIES:Meetings
END:VEVENT
END:VCALENDAR