BEGIN:VCALENDAR
VERSION:2.0
PRODID:-//STC-ACHE - ECPv4.6.15//NONSGML v1.0//EN
CALSCALE:GREGORIAN
METHOD:PUBLISH
X-WR-CALNAME:STC-ACHE
X-ORIGINAL-URL:http://stc.ache.org
X-WR-CALDESC:Events for STC-ACHE
BEGIN:VEVENT
DTSTART;TZID=UTC-6:20200326T080000
DTEND;TZID=UTC-6:20200327T170000
DTSTAMP:20260425T163740
CREATED:20191209T033107Z
LAST-MODIFIED:20200619T021453Z
UID:1187-1585209600-1585328400@stc.ache.org
SUMMARY:POSTPONED- Rio Grande Valley LPC Networking event
DESCRIPTION:THIS EVENT HAS BEEN POSTPONED DUE TO THE NEED FOR SOCIAL DISTANCING DURING THE PANDEMIC. WE PLAN TO RE-SCHEDULE THIS EVENT LATER IN THE YEAR. PLEASE SEE OUR WEBSITE OR SOCIAL MEDIA FOR UPDATES\, AND STAY SAFE.\n
URL:http://stc.ache.org/event/rio-grande-valley-lpc-networking-event-save-the-date/
END:VEVENT
END:VCALENDAR