BEGIN:VCALENDAR
VERSION:2.0
PRODID:-//STC-ACHE - ECPv4.6.15//NONSGML v1.0//EN
CALSCALE:GREGORIAN
METHOD:PUBLISH
X-WR-CALNAME:STC-ACHE
X-ORIGINAL-URL:http://stc.ache.org
X-WR-CALDESC:Events for STC-ACHE
BEGIN:VEVENT
DTSTART;TZID=UTC-6:20200820T080000
DTEND;TZID=UTC-6:20200820T170000
DTSTAMP:20260425T120528
CREATED:20191209T033610Z
LAST-MODIFIED:20200718T171202Z
UID:1193-1597910400-1597942800@stc.ache.org
SUMMARY:CANCELLED--Rio Grande Valley LPC Educational Event
DESCRIPTION:Due to local health conditions\, this event has been cancelled. Please stay safe and check back here for future events\, when conditions allow. \n
URL:http://stc.ache.org/event/rio-grande-valley-lpc-educational-event-save-the-date/
CATEGORIES:Education
END:VEVENT
END:VCALENDAR