BEGIN:VCALENDAR
VERSION:2.0
PRODID:-//STC-ACHE - ECPv4.6.15//NONSGML v1.0//EN
CALSCALE:GREGORIAN
METHOD:PUBLISH
X-WR-CALNAME:STC-ACHE
X-ORIGINAL-URL:http://stc.ache.org
X-WR-CALDESC:Events for STC-ACHE
BEGIN:VEVENT
DTSTART;VALUE=DATE:20200618
DTEND;VALUE=DATE:20200619
DTSTAMP:20260425T133128
CREATED:20191209T033514Z
LAST-MODIFIED:20200619T021423Z
UID:1191-1592438400-1592524799@stc.ache.org
SUMMARY:POSTPONED-Rio Grande Valley LPC Education Event
DESCRIPTION:Due to the pandemic and the need for social distancing\, we will not be holding this event as scheduled on June 18th.  We will continue to post updates here and on our social media outlets as we know more. \nStay safe and stay healthy! \n
URL:http://stc.ache.org/event/rio-grande-valley-lpc-education-event-postponed/
CATEGORIES:Education
END:VEVENT
END:VCALENDAR