BEGIN:VCALENDAR
VERSION:2.0
PRODID:-//STC-ACHE - ECPv4.6.15//NONSGML v1.0//EN
CALSCALE:GREGORIAN
METHOD:PUBLISH
X-WR-CALNAME:STC-ACHE
X-ORIGINAL-URL:http://stc.ache.org
X-WR-CALDESC:Events for STC-ACHE
BEGIN:VEVENT
DTSTART;VALUE=DATE:20190809
DTEND;VALUE=DATE:20190810
DTSTAMP:20260420T045408
CREATED:20190222T163141Z
LAST-MODIFIED:20190709T203438Z
UID:949-1565308800-1565395199@stc.ache.org
SUMMARY:Rio Grande Valley Local Program Council Educational Event
DESCRIPTION:\n\n\n\nRio Grande Education Event \nAugust 9\, 2019 \n10:30a-3:30p \nPanel 1: The Future of Healthcare Financing  \nPanel 2: Understanding Implicit Bias and its Impact on Healthcare Leadership \nEarn 3.0 Category I credits total \nHarlingen Medical Center\n5501 US-77 Harlingen\, TX 78550\n1st Floor of Medical Office Building\, Conference Room \nView the event flyer: ACHE LPC RG 2019_Event Flyer \n\n\n\n\nRegister here! \n
URL:http://stc.ache.org/event/rio-grande-valley-local-program-council-educational-event/
CATEGORIES:Education
END:VEVENT
END:VCALENDAR