BEGIN:VCALENDAR
VERSION:2.0
PRODID:-//STC-ACHE - ECPv4.6.15//NONSGML v1.0//EN
CALSCALE:GREGORIAN
METHOD:PUBLISH
X-WR-CALNAME:STC-ACHE
X-ORIGINAL-URL:http://stc.ache.org
X-WR-CALDESC:Events for STC-ACHE
BEGIN:VEVENT
DTSTART;TZID=America/Chicago:20191119T180000
DTEND;TZID=America/Chicago:20191119T200000
DTSTAMP:20260425T161940
CREATED:20191030T140643Z
LAST-MODIFIED:20191030T140643Z
UID:1124-1574186400-1574193600@stc.ache.org
SUMMARY:Resume & Interview Workshop
DESCRIPTION:  \n
URL:http://stc.ache.org/event/resume-interview-workshop/
LOCATION:708 West Summit\, San Antonio\, TX\, 78212\, United States
END:VEVENT
END:VCALENDAR