BEGIN:VCALENDAR
VERSION:2.0
PRODID:-//STC-ACHE - ECPv4.6.15//NONSGML v1.0//EN
CALSCALE:GREGORIAN
METHOD:PUBLISH
X-WR-CALNAME:STC-ACHE
X-ORIGINAL-URL:http://stc.ache.org
X-WR-CALDESC:Events for STC-ACHE
BEGIN:VEVENT
DTSTART;VALUE=DATE:20181116
DTEND;VALUE=DATE:20181117
DTSTAMP:20260425T204633
CREATED:20180802T182948Z
LAST-MODIFIED:20180903T141621Z
UID:765-1542326400-1542412799@stc.ache.org
SUMMARY:CANCELLED-- One-Day Board of Governors' (BOG) Exam Review with David Tapia\, FHMISS\, FACHE
DESCRIPTION:NOTE: THIS EVENT HAS BEEN CANCELLED AS OF SEPTEMBER 1\, 2018.  THE BOARD OF DIRECTORS APOLOGIES FOR ANY INCONVENIENCE AND WE HOPE TO START THIS SERIES AGAIN IN THE WINTER. \n******************************************************************************************************************************************** \nThis event follows the completion of the 10-week study course.  Signing up for this event alone without the 10-week study course is $75.  SEE OUR EVENTBRITE FOR REGISTRATION. \nDave Tapia’s class all day review course will be held at The University of the Incarnate Word (lunch included) on November 16. \nDavid is a highly accomplished Senior Executive\, Entrepreneur\, Educator\, Consultant\, and Board Member with 15 years of success in healthcare tech\, healthcare management\, food\, consulting\, and nonprofit sectors. Leveraging extensive experience in leadership and strategic planning\, he is a valuable asset for startups to maturing similar-sector companies looking for vision\, direction\, branding\, change management\, and growth. He has demonstrated success in taking startups to maturity by uniquely monetizing products/services. \nDavid founded and built a longstanding international healthcare marketing and tech consultancy; established a healthcare-focused services brokerage and business valuation company; provided compliance consulting to post-acute healthcare companies; administered strategic and marketing plans\, staffing restructures\, reimbursement rates and diversified service lines. He has boosted cash flows through cost reduction and revenue generation and increased high performance staff retention. \nHe has worked directly with software vendors to develop and deploy technology solutions in over 300 healthcare organizations\, affecting over 3\,000 internal and external stakeholders. He has also served as producer and host of a “radio show” style webinar series with record attendance upwards of 1\,300 participants\, where top industry experts are interviewed. \nDavid earned a B.A. in Anthropology from Texas A&M University; and an M.B.A. in Healthcare Management from Our Lady of the Lake University. He has served on numerous boards and advisory councils\, including for South Texas Chapter of the American College of Healthcare Executives (STC-ACHE); Founding Board member of San Antonio Healthcare Information Management Systems Society (SAHIMSS); and Bexar County Medical Society Alliance (BCMSA). David is certified as an ACHE Fellow (FACHE) and HIMSS Fellow (FHIMSS). He is a recipient of both the ACHE National Service and Distinguished Service awards. \nNO REFUNDS WILL BE GRANTED \nFOR MORE INFORMATION\, PLEASE CONTACT: \nAngela Jaco – ajaco@hamlinhealth.org \nDr. Brad Beauvais – bbeauvai@trinity.edu \n
URL:http://stc.ache.org/event/one-day-board-of-governors-bog-exam-review/
CATEGORIES:Education
END:VEVENT
END:VCALENDAR