BEGIN:VCALENDAR
VERSION:2.0
PRODID:-//STC-ACHE - ECPv4.6.15//NONSGML v1.0//EN
CALSCALE:GREGORIAN
METHOD:PUBLISH
X-WR-CALNAME:STC-ACHE
X-ORIGINAL-URL:http://stc.ache.org
X-WR-CALDESC:Events for STC-ACHE
BEGIN:VEVENT
DTSTART;VALUE=DATE:20201016
DTEND;VALUE=DATE:20201017
DTSTAMP:20260425T162118
CREATED:20191209T032918Z
LAST-MODIFIED:20201015T032312Z
UID:1185-1602806400-1602892799@stc.ache.org
SUMMARY:POSTPONED: One-day ACHE Advancement Class- Save the Date!
DESCRIPTION:Check back here for details & registration information soon! \n
URL:http://stc.ache.org/event/one-day-ache-advancement-class-save-the-date/
CATEGORIES:Education
END:VEVENT
END:VCALENDAR