BEGIN:VCALENDAR
VERSION:2.0
PRODID:-//STC-ACHE - ECPv4.6.15//NONSGML v1.0//EN
CALSCALE:GREGORIAN
METHOD:PUBLISH
X-WR-CALNAME:STC-ACHE
X-ORIGINAL-URL:http://stc.ache.org
X-WR-CALDESC:Events for STC-ACHE
BEGIN:VEVENT
DTSTART;TZID=UTC-6:20180420T113000
DTEND;TZID=UTC-6:20180420T144500
DTSTAMP:20260425T192317
CREATED:20171211T045615Z
LAST-MODIFIED:20180323T042540Z
UID:564-1524223800-1524235500@stc.ache.org
SUMMARY:LPC- Rio Grande Spring Educational Event
DESCRIPTION:Rio Grande LPC Educational Event: Leading a Successful Multigenerational Organization\nRio Grande Regional Hospital- Classroom 1 A & B\n 101 E Ridge Rd\,  McAllen \, TX 78503\n11:30 AM                  Registration/Reception \nNoon                         Lunch \n1:00 PM                   Welcome and Introductions \n1:15 PM                    Speaker/Panelist Presentation (1.5 Face-to-Face credit hours) \n\n\n\nModerator: \n \nCarlos Sanchez\, President of Milagro Media & Consultancy\n\n\nPanelist:  \n  \n \nDavid Rubenstein\, FACHE\, Clinical Associate Professor of Health Administration\, Texas State University\, Major General-US Army Retired\, Past Chairman-ACHE\, Chairman-AMSUS: The Society of Federal Health Professionals\n\n\nPanelist: \n \nMichael Nowicki\, EdD\, FACHE\, FHFMA\, Professor of Health Administration\, Texas State University-San Marcos\, ACHE Regent-TX Central and South\n\n\nPanelist: \n \nTroy A. Villarreal\, MHA\, FACHE\, President HCA Gulf Coast Division\n\n\nPanelist:\n Benjamin Foster\, HCA Gulf Coast Division Regional Vice President of HR\n\n\n\n2:45 PM                                  Adjourn \nREGISTER AT OUR EVENTBRITE SITE NOW! \n
URL:http://stc.ache.org/event/lpc-rio-grande-spring-educational-event-save-the-date/
LOCATION:101 E Ridge Rd\, McAllen\, TX\, 78503\, United States
CATEGORIES:Education,Meetings
END:VEVENT
END:VCALENDAR