BEGIN:VCALENDAR
VERSION:2.0
PRODID:-//STC-ACHE - ECPv4.6.15//NONSGML v1.0//EN
CALSCALE:GREGORIAN
METHOD:PUBLISH
X-WR-CALNAME:STC-ACHE
X-ORIGINAL-URL:http://stc.ache.org
X-WR-CALDESC:Events for STC-ACHE
BEGIN:VEVENT
DTSTART;VALUE=DATE:20220627
DTEND;VALUE=DATE:20220628
DTSTAMP:20260424T230701
CREATED:20220601T211715Z
LAST-MODIFIED:20220605T210233Z
UID:1761-1656288000-1656374399@stc.ache.org
SUMMARY:June Service Opportunity - June 27th
DESCRIPTION:Clarityfest 2022\nEvent Date: Monday\, June 27\, 2022 (for a few hours in the morning-early afternoon)\nLocation: Clarity Child Guidance Center – 8535 Tom Slick Drive\, San Antonio\, TX 78229\nDescription of Event: Clarityfest 2022 is an in-person celebration for the children they serve and their staff. The event will include live music\, old western-themed games\, drinks\, food\, a dunk tank\, a bouncy house\, and more! For more information about the event\, please e-mail robert.burns@claritycgc.org.\nDescription of Volunteer Work: They are looking for 50 volunteers. Volunteers will be paired to help manage the stations located in the campus courtyard. Floater volunteers will also be needed to help provide breaks and refreshments (it will be outdoors). There will likely be some setup or breakdown of stations as well.\nContact: If you are interested in volunteering for this event\, e-mail robert.burns@claritycgc.org with your interest and availability to help.\n
URL:http://stc.ache.org/event/june-service-opportunity-june-27th/
LOCATION:8535 Tom Slick Drive\, San Antonio\, TX\, 78229\, United States
END:VEVENT
END:VCALENDAR