BEGIN:VCALENDAR
VERSION:2.0
PRODID:-//STC-ACHE - ECPv4.6.15//NONSGML v1.0//EN
CALSCALE:GREGORIAN
METHOD:PUBLISH
X-WR-CALNAME:STC-ACHE
X-ORIGINAL-URL:http://stc.ache.org
X-WR-CALDESC:Events for STC-ACHE
BEGIN:VEVENT
DTSTART;TZID=UTC-6:20200910T170000
DTEND;TZID=UTC-6:20200910T200000
DTSTAMP:20260425T164036
CREATED:20200122T030442Z
LAST-MODIFIED:20200122T030442Z
UID:1244-1599757200-1599768000@stc.ache.org
SUMMARY:Healthcare Leaders of San Antonio Monthly Networking Mixer
DESCRIPTION:Are you interested in meeting leaders of the healthcare community in San Antonio and building professional relationships?  \nThe Healthcare Leaders of San Antonio meets on the second Thursday of every month from 5pm-8pm for a networking social\, with locations varying around the city.  \nRegistration is preferred but not required. See our Eventbrite for additional information. \n
URL:http://stc.ache.org/event/healthcare-leaders-of-san-antonio-monthly-networking-mixer-8/
LOCATION:17103 La Cantera Pkwy\,\, San Antonio\, Texas\, 78256
END:VEVENT
END:VCALENDAR