BEGIN:VCALENDAR
VERSION:2.0
PRODID:-//STC-ACHE - ECPv4.6.15//NONSGML v1.0//EN
CALSCALE:GREGORIAN
METHOD:PUBLISH
X-WR-CALNAME:STC-ACHE
X-ORIGINAL-URL:http://stc.ache.org
X-WR-CALDESC:Events for STC-ACHE
BEGIN:VEVENT
DTSTART;TZID=UTC-6:20190912T170000
DTEND;TZID=UTC-6:20190912T200000
DTSTAMP:20260425T194008
CREATED:20190724T184615Z
LAST-MODIFIED:20190724T184615Z
UID:1061-1568307600-1568318400@stc.ache.org
SUMMARY:Healthcare Leaders of SA September Networking Event!
DESCRIPTION:  \nAre you interested in meeting leaders of the healthcare community in San Antonio and building professional relationships?  \nThe Healthcare Leaders of San Antonio meets on the second Thursday of every month from 5pm-8pm for a networking social\, with locations varying around the city.  \nFor more information\, go to their website: http://healthcareleaderssa.com/ \n
URL:http://stc.ache.org/event/healthcare-leaders-of-sa-september-networking-event/
LOCATION:17103 La Cantera Pkwy\,\, San Antonio\, Texas\, 78256
END:VEVENT
END:VCALENDAR