BEGIN:VCALENDAR
VERSION:2.0
PRODID:-//STC-ACHE - ECPv4.6.15//NONSGML v1.0//EN
CALSCALE:GREGORIAN
METHOD:PUBLISH
X-WR-CALNAME:STC-ACHE
X-ORIGINAL-URL:http://stc.ache.org
X-WR-CALDESC:Events for STC-ACHE
BEGIN:VEVENT
DTSTART;TZID=UTC-6:20161014T113000
DTEND;TZID=UTC-6:20161014T170000
DTSTAMP:20260425T220426
CREATED:20160613T141322Z
LAST-MODIFIED:20160905T171941Z
UID:166-1476444600-1476464400@stc.ache.org
SUMMARY:Fall 2016 Education Chapter Event
DESCRIPTION:11:30 AM – 1:00 PM               Registration / Networking / Lunch \n1:00 PM – 1:15 PM                Welcome & Introductions \n1:15 PM – 2:45 PM   Fostering Inclusion of LGBT Patients and Employees (*ACHE Face to Face Education Credits 1.5 hours) \nModerator: Missam Merchant\, Director of Nursing\, BSN\, RN\, RN-BC\, NE-BC\, Metropolitan Methodist Hospital \nPanelist: Christopher Armijo\, Integrated Healthforce Protection\, U.S. Army \nPanelist: Naomi Brown\, LCSW-Vice Chair\, San Antonio Pride Association \n2:45 PM – 3:00 PM BREAK \n3:00 PM – 4:30 PM     Health Information Exchange: Implementation in the  Real World (*ACHE Face to Face Education Credits 1.5 hrs) \nModerator: Bill Phillips\, CIO\, University Health System \nPanelist: Kimberly Harris\, Director of Marketing and Business Development\, Healthcare Access San Antonio \nPanelist: George Hooch\, CEO\, Texas Health Services Authority \n4:30 PM – 5:00 PM Questions / Closing Remarks \nReview our Eventbrite for registration! \n
URL:http://stc.ache.org/event/falleducation2016/
LOCATION:901 E Sonterra Blvd\, San Antonio\, TX\, 78258\, United States
CATEGORIES:Education
ORGANIZER;CN="Unnamed%20Organizer":MAILTO:info@stc.ache.org
END:VEVENT
END:VCALENDAR