BEGIN:VCALENDAR
VERSION:2.0
PRODID:-//STC-ACHE - ECPv4.6.15//NONSGML v1.0//EN
CALSCALE:GREGORIAN
METHOD:PUBLISH
X-WR-CALNAME:STC-ACHE
X-ORIGINAL-URL:http://stc.ache.org
X-WR-CALDESC:Events for STC-ACHE
BEGIN:VEVENT
DTSTART;TZID=UTC-6:20191004T120000
DTEND;TZID=UTC-6:20191004T170000
DTSTAMP:20260425T175529
CREATED:20190908T141030Z
LAST-MODIFIED:20190922T033329Z
UID:1085-1570190400-1570208400@stc.ache.org
SUMMARY:Fall Education\, Awards & Networking Event
DESCRIPTION:\n\n\nThe STC-ACHE Fall Educational Event is targeted at healthcare professionals under one roof to learn\, discuss\, and draw inspiration from eminent speakers\, policy makers\, and renowned health leaders.\n\n\n\n\n\n\n\nThis event is open to all those in Healthcare Administration interested in these topics and in professional networking (both members and non-members of ACHE). \n12:00pm – 12:45pm – Registration \n12:45pm – 1:45pm – Lunch/Networking \n1:45pm – 2:00pm – Welcome and Introductions \n2:00pm – 3:30pm Session 1- Medical Tourism: The Globalization of Healthcare \n(ACHE Face-to-Face Education Credits\, 1.5 hours pending approval) \n3:30pm – 4:00pm – Chapter Awards Presentation & Closing Comments \n4:00pm – 5:00pm –Networking & Happy Hour at Sonterra. \nEnjoy hors d’oeuvres on us. Each attendee will receive one drink ticket! \n\n\n\n\n
URL:http://stc.ache.org/event/fall-education-event/
LOCATION:901 E Sonterra Blvd\, San Antonio\, TX\, 78258\, United States
END:VEVENT
END:VCALENDAR