BEGIN:VCALENDAR
VERSION:2.0
PRODID:-//STC-ACHE - ECPv4.6.15//NONSGML v1.0//EN
CALSCALE:GREGORIAN
METHOD:PUBLISH
X-WR-CALNAME:STC-ACHE
X-ORIGINAL-URL:http://stc.ache.org
X-WR-CALDESC:Events for STC-ACHE
BEGIN:VEVENT
DTSTART;TZID=UTC-6:20161210T080000
DTEND;TZID=UTC-6:20161210T130000
DTSTAMP:20260425T204021
CREATED:20161207T030309Z
LAST-MODIFIED:20161207T030309Z
UID:249-1481356800-1481374800@stc.ache.org
SUMMARY:Elf Louise volunteer event
DESCRIPTION:The Philanthropy and Community Relations Committee would like to invite you to join us for a community volunteer opportunity. Our Chapter will be working with the Elf Louise Christmas Project on December 10\, 2016 from 08:00 am. – 1:00 pm. We will be helping assemble Santa suits and assisting with toy runs. Minimum age required is 12. All volunteers must wear closed-toed shoes (no sandals or flip flops) and dress comfortably\, but appropriately. We can take up to 18 volunteers for this opportunity\, first come\, first signed up. Sign up at our Eventbrite! \nQuestions may be directed to Don Brocker\, donald.w.brocker.civ@mail.mil.  210-221-2876. \nAssignments are available in 1 hour increments. \n
URL:http://stc.ache.org/event/elf-louise-volunteer-event/
LOCATION:391 Industrial Park Drive\, San Antonio\, 78226\, United States
CATEGORIES:Volunteer
ORGANIZER;CN="Don%20Brocker":MAILTO:donald.w.brocker.civ@mail.mil
END:VEVENT
END:VCALENDAR