BEGIN:VCALENDAR
VERSION:2.0
PRODID:-//STC-ACHE - ECPv4.6.15//NONSGML v1.0//EN
CALSCALE:GREGORIAN
METHOD:PUBLISH
X-WR-CALNAME:STC-ACHE
X-ORIGINAL-URL:http://stc.ache.org
X-WR-CALDESC:Events for STC-ACHE
BEGIN:VEVENT
DTSTART;TZID=UTC-6:20191108T123000
DTEND;TZID=UTC-6:20191108T163000
DTSTAMP:20260425T170320
CREATED:20181208T234415Z
LAST-MODIFIED:20191011T192905Z
UID:843-1573216200-1573230600@stc.ache.org
SUMMARY:Collaborative Education Event with Central Texas Chapter
DESCRIPTION:Join us at Texas State University for our annual collaborative education event with the Central Texas Chapter! \nWorth 3.0 face-to-face credit hours\, there will be two panels: \nSession 1- Human Trafficking and the Impact on Healthcare \nSession 2- Medical Tourism: The Globalization of Healthcare \nSee the Central Texas Chapter’s website for more details. \nWe hope to see you there! \n
URL:http://stc.ache.org/event/collaborative-education-event-with-central-texas-chapter-tentative/
LOCATION:601 University Drive\, San Marcos\, TX\, 78666
CATEGORIES:Education
END:VEVENT
END:VCALENDAR