BEGIN:VCALENDAR
VERSION:2.0
PRODID:-//STC-ACHE - ECPv4.6.15//NONSGML v1.0//EN
CALSCALE:GREGORIAN
METHOD:PUBLISH
X-WR-CALNAME:STC-ACHE
X-ORIGINAL-URL:http://stc.ache.org
X-WR-CALDESC:Events for STC-ACHE
BEGIN:VEVENT
DTSTART;VALUE=DATE:20200416
DTEND;VALUE=DATE:20200417
DTSTAMP:20260425T150956
CREATED:20191209T033411Z
LAST-MODIFIED:20200405T183045Z
UID:1189-1586995200-1587081599@stc.ache.org
SUMMARY:POSTPONED-- Coastal Bend LPC Educational Event
DESCRIPTION:THIS EVENT HAS BEEN POSTPONED DUE TO THE NEED FOR SOCIAL DISTANCING DURING THE PANDEMIC. WE PLAN TO RE-SCHEDULE THIS EVENT LATER IN THE YEAR. PLEASE SEE OUR WEBSITE OR SOCIAL MEDIA FOR UPDATES\, AND STAY SAFE.\n
URL:http://stc.ache.org/event/coastal-bend-lpc-educational-event-save-the-date/
CATEGORIES:Education
END:VEVENT
END:VCALENDAR