BEGIN:VCALENDAR
VERSION:2.0
PRODID:-//STC-ACHE - ECPv4.6.15//NONSGML v1.0//EN
CALSCALE:GREGORIAN
METHOD:PUBLISH
X-WR-CALNAME:STC-ACHE
X-ORIGINAL-URL:http://stc.ache.org
X-WR-CALDESC:Events for STC-ACHE
BEGIN:VEVENT
DTSTART;TZID=UTC-6:20200228T170000
DTEND;TZID=UTC-6:20200228T200000
DTSTAMP:20260425T183146
CREATED:20200227T160527Z
LAST-MODIFIED:20200227T160546Z
UID:1272-1582909200-1582920000@stc.ache.org
SUMMARY:Chapter Networking event at Ranger Creek
DESCRIPTION:STC ACHE MEMBER NETWORKING EVENT – Private space. Cash bar. \nAttendance is limited. \nRegister here! \n  \n  \n
URL:http://stc.ache.org/event/chapter-networking-event-at-ranger-creek/
LOCATION:4834 Whirlwind Drive\, Ste. 102\, San Antonio\, TX\, 78217\, United States
END:VEVENT
END:VCALENDAR